BEGIN:VCALENDAR
VERSION:2.0
PRODID:-//Plone.org//NONSGML plone.app.event//EN
X-WR-TIMEZONE:America/Sao_Paulo
BEGIN:VEVENT
SUMMARY:Feira EBA em [ Entorno da Praca de Servicos]
DTSTART;TZID=America/Sao_Paulo;VALUE=DATE-TIME:20230619T070000
DTEND;TZID=America/Sao_Paulo;VALUE=DATE-TIME:20230622T180000
DTSTAMP;VALUE=DATE-TIME:20260421T132750Z
UID:c0b17528f9bc483aa2f602e2caa47e87@150.164.76.86:8080
CREATED;VALUE=DATE-TIME:20230502T025851Z
DESCRIPTION:<p>A montagem da feira será realizada no dia 19 (segunda feir
 a) e o evento nos dias 20 e 21.</p>
LAST-MODIFIED;VALUE=DATE-TIME:20230502T123422Z
URL:http://150.164.76.86:8080/cac/agenda/614184931410861323
END:VEVENT
BEGIN:VTIMEZONE
TZID:America/Sao_Paulo
X-LIC-LOCATION:America/Sao_Paulo
BEGIN:STANDARD
DTSTART;VALUE=DATE-TIME:20230225T230000
TZNAME:BRT
TZOFFSETFROM:-0200
TZOFFSETTO:-0300
END:STANDARD
END:VTIMEZONE
END:VCALENDAR
