BEGIN:VCALENDAR
VERSION:2.0
PRODID:-//Plone.org//NONSGML plone.app.event//EN
X-WR-TIMEZONE:America/Sao_Paulo
BEGIN:VEVENT
SUMMARY:Programação DCE - Dia Orgulho LGBTQIAPN+ em [ Arena da praça de
  serviços]
DTSTART;TZID=America/Sao_Paulo;VALUE=DATE-TIME:20230628T110000
DTEND;TZID=America/Sao_Paulo;VALUE=DATE-TIME:20230628T160000
DTSTAMP;VALUE=DATE-TIME:20260421T120001Z
UID:b1a3dce01d184f548d4ccbb4bddb300c@150.164.76.86:8080
CREATED;VALUE=DATE-TIME:20230622T112249Z
DESCRIPTION:<p>Será realizada mais uma edição do evento de karaoke (kar
 aoqueer)\; um espaço aberto onde alunes poderão cantar músicas e expres
 sões culturais em arte em prol do orgulho LGBTQIAPN+\, nessa data que é 
 o dia internacional do orgulho. Após o karaoke\, será também mediada um
 a atividade de formação e debate sobre a temática LGBTQIAPN+ em parceri
 a com o Coletivo Cintura Fina. Os recursos necessários (som\; mesa\; cade
 iras) serão articulados juntamente com os materiais do próprio DCE.</p>
LAST-MODIFIED;VALUE=DATE-TIME:20230626T171622Z
URL:http://150.164.76.86:8080/cac/agenda/6136891682350178914
END:VEVENT
BEGIN:VTIMEZONE
TZID:America/Sao_Paulo
X-LIC-LOCATION:America/Sao_Paulo
BEGIN:STANDARD
DTSTART;VALUE=DATE-TIME:20230225T230000
TZNAME:BRT
TZOFFSETFROM:-0200
TZOFFSETTO:-0300
END:STANDARD
END:VTIMEZONE
END:VCALENDAR
