BEGIN:VCALENDAR
VERSION:2.0
PRODID:-//Plone.org//NONSGML plone.app.event//EN
X-WR-TIMEZONE:America/Sao_Paulo
BEGIN:VEVENT
SUMMARY:Assembleia Sindical Geral da UFMG em [ Auditorio A102 do Cad 2]
DTSTART;TZID=America/Sao_Paulo;VALUE=DATE-TIME:20221117T090000
DTEND;TZID=America/Sao_Paulo;VALUE=DATE-TIME:20221117T130000
DTSTAMP;VALUE=DATE-TIME:20260421T221111Z
UID:e5e5e3aa72e94bdfab39af6dfba6774b@150.164.76.86:8080
CREATED;VALUE=DATE-TIME:20221108T201021Z
DESCRIPTION:<p>Assembleia Sindical Geral da UFMG pauta: informes nacional 
 e locais\; análise de conjuntura\; discutir envio de caravana para posse 
 do novo presidente em Brasília</p>
LAST-MODIFIED;VALUE=DATE-TIME:20221109T130309Z
URL:http://150.164.76.86:8080/cac/agenda/6135989981983735378
END:VEVENT
BEGIN:VTIMEZONE
TZID:America/Sao_Paulo
X-LIC-LOCATION:America/Sao_Paulo
BEGIN:DAYLIGHT
DTSTART;VALUE=DATE-TIME:20221016T010000
TZNAME:BRST
TZOFFSETFROM:-0300
TZOFFSETTO:-0200
END:DAYLIGHT
END:VTIMEZONE
END:VCALENDAR
