BEGIN:VCALENDAR
VERSION:2.0
PRODID:-//Plone.org//NONSGML plone.app.event//EN
X-WR-TIMEZONE:America/Sao_Paulo
BEGIN:VEVENT
SUMMARY:Seminário Internacional Quem tem medo de gênero? em [ Auditorio 
 da Reitoria]
DTSTART;TZID=America/Sao_Paulo;VALUE=DATE-TIME:20250115T080000
DTEND;TZID=America/Sao_Paulo;VALUE=DATE-TIME:20250117T180000
DTSTAMP;VALUE=DATE-TIME:20260419T133104Z
UID:92afefbee0424b53a9af76c460f8e3bd@150.164.76.86:8080
CREATED;VALUE=DATE-TIME:20240807T140504Z
DESCRIPTION:<p>Infraestrutura: Mesa para 5 lugares\, computador com powerp
 oint\, microfones\, filmagem\, mesa externa para credenciamento.</p>
LAST-MODIFIED;VALUE=DATE-TIME:20241008T152211Z
URL:http://150.164.76.86:8080/cac/agenda/6131764739361858262
END:VEVENT
BEGIN:VTIMEZONE
TZID:America/Sao_Paulo
X-LIC-LOCATION:America/Sao_Paulo
BEGIN:DAYLIGHT
DTSTART;VALUE=DATE-TIME:20241020T010000
TZNAME:BRST
TZOFFSETFROM:-0300
TZOFFSETTO:-0200
END:DAYLIGHT
END:VTIMEZONE
END:VCALENDAR
