BEGIN:VCALENDAR
VERSION:2.0
PRODID:-//Plone.org//NONSGML plone.app.event//EN
X-WR-TIMEZONE:America/Sao_Paulo
BEGIN:VEVENT
SUMMARY:FAME 2024 em [ Auditório B101/102 do CAD 3 Auditório B106 do CAD
 3 Auditório B107 do CAD3]
DTSTART;TZID=America/Sao_Paulo;VALUE=DATE-TIME:20240904T080000
DTEND;TZID=America/Sao_Paulo;VALUE=DATE-TIME:20240906T200000
DTSTAMP;VALUE=DATE-TIME:20260419T193031Z
UID:153e14248a704ac3ae1339f87ce134f3@150.164.76.86:8080
CREATED;VALUE=DATE-TIME:20240325T181029Z
DESCRIPTION:<p>FAME: Football Analytics and Modeling Experience</p>
LAST-MODIFIED;VALUE=DATE-TIME:20240903T191956Z
URL:http://150.164.76.86:8080/cac/agenda/6127494006501787743
END:VEVENT
BEGIN:VTIMEZONE
TZID:America/Sao_Paulo
X-LIC-LOCATION:America/Sao_Paulo
BEGIN:STANDARD
DTSTART;VALUE=DATE-TIME:20240217T230000
TZNAME:BRT
TZOFFSETFROM:-0200
TZOFFSETTO:-0300
END:STANDARD
END:VTIMEZONE
END:VCALENDAR
