BEGIN:VCALENDAR
VERSION:2.0
PRODID:-//Plone.org//NONSGML plone.app.event//EN
X-WR-TIMEZONE:America/Sao_Paulo
BEGIN:VEVENT
SUMMARY:Simpósio de Proteômica em [ Auditório B101/102 do CAD 3]
DTSTART;TZID=America/Sao_Paulo;VALUE=DATE-TIME:20250423T080000
DTEND;TZID=America/Sao_Paulo;VALUE=DATE-TIME:20250423T180000
DTSTAMP;VALUE=DATE-TIME:20260419T120246Z
UID:a6b72ac228a74ef6aad8b896551ca5b4@150.164.76.86:8080
CREATED;VALUE=DATE-TIME:20250207T134712Z
DESCRIPTION:<p>Evento patrocinado pela empresa Thermo que visa apresentar 
 os trabalhos realizados em proteômica em Minas Gerais e no Brasil.</p>
LAST-MODIFIED;VALUE=DATE-TIME:20250211T131626Z
URL:http://150.164.76.86:8080/cac/agenda/6107101232216845428
END:VEVENT
BEGIN:VTIMEZONE
TZID:America/Sao_Paulo
X-LIC-LOCATION:America/Sao_Paulo
BEGIN:STANDARD
DTSTART;VALUE=DATE-TIME:20250215T230000
TZNAME:BRT
TZOFFSETFROM:-0200
TZOFFSETTO:-0300
END:STANDARD
END:VTIMEZONE
END:VCALENDAR
