BEGIN:VCALENDAR
VERSION:2.0
PRODID:-//Plone.org//NONSGML plone.app.event//EN
X-WR-TIMEZONE:America/Sao_Paulo
BEGIN:VEVENT
SUMMARY:DESPEDIDA DOS ALUNOS DE 5 ANOS em [ Auditorio Nobre do CAD 1]
DTSTART;TZID=America/Sao_Paulo;VALUE=DATE-TIME:20221212T180000
DTEND;TZID=America/Sao_Paulo;VALUE=DATE-TIME:20221212T210000
DTSTAMP;VALUE=DATE-TIME:20260421T222449Z
UID:d82664d2c28c47d5b30e7b884119765c@150.164.76.86:8080
CREATED;VALUE=DATE-TIME:20220526T185714Z
DESCRIPTION:<p>Serviços de som\, microfone\, data show\, limpeza\, e pess
 oas para operar os equipamentos. Att\,</p>
LAST-MODIFIED;VALUE=DATE-TIME:20220901T195741Z
URL:http://150.164.76.86:8080/cac/agenda/6099183946267200001
END:VEVENT
BEGIN:VTIMEZONE
TZID:America/Sao_Paulo
X-LIC-LOCATION:America/Sao_Paulo
BEGIN:DAYLIGHT
DTSTART;VALUE=DATE-TIME:20221016T010000
TZNAME:BRST
TZOFFSETFROM:-0300
TZOFFSETTO:-0200
END:DAYLIGHT
END:VTIMEZONE
END:VCALENDAR
