BEGIN:VCALENDAR
VERSION:2.0
PRODID:-//Plone.org//NONSGML plone.app.event//EN
X-WR-TIMEZONE:America/Sao_Paulo
BEGIN:VEVENT
SUMMARY:Reunião Centros de Extensão e Equipe da Proex em [ Auditorio da 
 Reitoria]
DTSTART;TZID=America/Sao_Paulo;VALUE=DATE-TIME:20220413T140000
DTEND;TZID=America/Sao_Paulo;VALUE=DATE-TIME:20220413T170000
DTSTAMP;VALUE=DATE-TIME:20260422T094121Z
UID:407171f49af8410e87540d849e3fbb52@150.164.76.86:8080
CREATED;VALUE=DATE-TIME:20220406T133407Z
DESCRIPTION:<p>REUNIÃO COM OS COORDENADORES DO CENEX JUNTAMENTE COM A EQU
 IPE DA PROEX SERÁ NECESSÁRIO: MICROFONE PARA A MESA E RECURSO DE APRESEN
 TAÇÃO POWERPOINT</p>
LAST-MODIFIED;VALUE=DATE-TIME:20220408T145236Z
URL:http://150.164.76.86:8080/cac/agenda/609843890485242281
END:VEVENT
BEGIN:VTIMEZONE
TZID:America/Sao_Paulo
X-LIC-LOCATION:America/Sao_Paulo
BEGIN:STANDARD
DTSTART;VALUE=DATE-TIME:20220219T230000
TZNAME:BRT
TZOFFSETFROM:-0200
TZOFFSETTO:-0300
END:STANDARD
END:VTIMEZONE
END:VCALENDAR
