BEGIN:VCALENDAR
VERSION:2.0
PRODID:-//Plone.org//NONSGML plone.app.event//EN
X-WR-TIMEZONE:America/Sao_Paulo
BEGIN:VEVENT
SUMMARY:22º Feira de Artesanato do Vale do Jequitinhonha UFMG em [ Entorn
 o da Praca de Servicos Arena da praça de serviços]
DTSTART;TZID=America/Sao_Paulo;VALUE=DATE-TIME:20230502T080000
DTEND;TZID=America/Sao_Paulo;VALUE=DATE-TIME:20230516T210000
DTSTAMP;VALUE=DATE-TIME:20260421T115743Z
UID:f1a838bce4594cdab7ae35a5c9c38503@150.164.76.86:8080
CREATED;VALUE=DATE-TIME:20220920T175050Z
DESCRIPTION:<p>Demanda de equipamentos de som e luz.</p>
LAST-MODIFIED;VALUE=DATE-TIME:20230323T143309Z
URL:http://150.164.76.86:8080/cac/agenda/6078676081494520417
END:VEVENT
BEGIN:VTIMEZONE
TZID:America/Sao_Paulo
X-LIC-LOCATION:America/Sao_Paulo
BEGIN:STANDARD
DTSTART;VALUE=DATE-TIME:20230225T230000
TZNAME:BRT
TZOFFSETFROM:-0200
TZOFFSETTO:-0300
END:STANDARD
END:VTIMEZONE
END:VCALENDAR
