BEGIN:VCALENDAR
VERSION:2.0
PRODID:-//Plone.org//NONSGML plone.app.event//EN
X-WR-TIMEZONE:America/Sao_Paulo
BEGIN:VEVENT
SUMMARY:Posse Diretoria Medicina em [ Outros espacos]
DTSTART;TZID=America/Sao_Paulo;VALUE=DATE-TIME:20220411T180000
DTEND;TZID=America/Sao_Paulo;VALUE=DATE-TIME:20220411T200000
DTSTAMP;VALUE=DATE-TIME:20260422T081524Z
UID:d9e84165d1de46f09405d8cf2c7c2eb5@150.164.76.86:8080
CREATED;VALUE=DATE-TIME:20220318T154651Z
DESCRIPTION:<p>Posse Diretoria e Vice-Diretoria</p>
LAST-MODIFIED;VALUE=DATE-TIME:20220330T161406Z
URL:http://150.164.76.86:8080/cac/agenda/6073493974320502417
END:VEVENT
BEGIN:VTIMEZONE
TZID:America/Sao_Paulo
X-LIC-LOCATION:America/Sao_Paulo
BEGIN:STANDARD
DTSTART;VALUE=DATE-TIME:20220219T230000
TZNAME:BRT
TZOFFSETFROM:-0200
TZOFFSETTO:-0300
END:STANDARD
END:VTIMEZONE
END:VCALENDAR
