BEGIN:VCALENDAR
VERSION:2.0
PRODID:-//Plone.org//NONSGML plone.app.event//EN
X-WR-TIMEZONE:America/Sao_Paulo
BEGIN:VEVENT
SUMMARY:Ao cair da tarde em [ Arena da praça de serviços]
DTSTART;TZID=America/Sao_Paulo;VALUE=DATE-TIME:20230615T140000
DTEND;TZID=America/Sao_Paulo;VALUE=DATE-TIME:20230615T193000
DTSTAMP;VALUE=DATE-TIME:20260421T121825Z
UID:0de97979dc5d473db89f5e9275a6ab0b@150.164.76.86:8080
CREATED;VALUE=DATE-TIME:20221124T154216Z
DESCRIPTION:ao cair da tarde\, Equipamentos a definir. somente reserva do 
 espaço.
LAST-MODIFIED;VALUE=DATE-TIME:20221129T145850Z
URL:http://150.164.76.86:8080/cac/agenda/6070389835449249282
END:VEVENT
BEGIN:VTIMEZONE
TZID:America/Sao_Paulo
X-LIC-LOCATION:America/Sao_Paulo
BEGIN:STANDARD
DTSTART;VALUE=DATE-TIME:20230225T230000
TZNAME:BRT
TZOFFSETFROM:-0200
TZOFFSETTO:-0300
END:STANDARD
END:VTIMEZONE
END:VCALENDAR
