BEGIN:VCALENDAR
VERSION:2.0
PRODID:-//Plone.org//NONSGML plone.app.event//EN
X-WR-TIMEZONE:America/Sao_Paulo
BEGIN:VEVENT
SUMMARY:BRACIS em [ Auditório B106 do CAD3 Auditório B107 do CAD3 Audit
 ório B101/102 do CAD 3]
DTSTART;TZID=America/Sao_Paulo;VALUE=DATE-TIME:20230925T070000
DTEND;TZID=America/Sao_Paulo;VALUE=DATE-TIME:20230930T210000
DTSTAMP;VALUE=DATE-TIME:20260421T050010Z
UID:cb491af576f34e3abb6dabc8b917f12b@150.164.76.86:8080
CREATED;VALUE=DATE-TIME:20230111T132030Z
DESCRIPTION:<p><span>Conforme conversa com a Cássia e a Raquel\, nos comp
 rometemos desde já com todo suporte audiovisual e equipamentos necessári
 os para realização do evento. Concordamos com a ressalva que deve haver 
 um servidor da UFMG para supervisionar todos os serviços que serão reali
 zados. O evento de caráter acadêmico vai congregar pesquisadores naciona
 is e internacionais da área de Inteligência Artificial. A programação 
 compreende palestras\, paineis e sessões técnicas\, além de coffee brea
 ks.</span></p>
LAST-MODIFIED;VALUE=DATE-TIME:20230913T141440Z
URL:http://150.164.76.86:8080/cac/agenda/6065923019285707751
END:VEVENT
BEGIN:VTIMEZONE
TZID:America/Sao_Paulo
X-LIC-LOCATION:America/Sao_Paulo
BEGIN:STANDARD
DTSTART;VALUE=DATE-TIME:20230225T230000
TZNAME:BRT
TZOFFSETFROM:-0200
TZOFFSETTO:-0300
END:STANDARD
END:VTIMEZONE
END:VCALENDAR
