BEGIN:VCALENDAR
VERSION:2.0
PRODID:-//Plone.org//NONSGML plone.app.event//EN
X-WR-TIMEZONE:America/Sao_Paulo
BEGIN:VEVENT
SUMMARY:Solenidade de Colação de Grau oficial do IGC em [ Auditorio Nobr
 e do CAD 1]
DTSTART;TZID=America/Sao_Paulo;VALUE=DATE-TIME:20250227T080000
DTEND;TZID=America/Sao_Paulo;VALUE=DATE-TIME:20250227T120000
DTSTAMP;VALUE=DATE-TIME:20260419T132209Z
UID:6d084480c3db4bf8a43a57dfe49fec6b@150.164.76.86:8080
CREATED;VALUE=DATE-TIME:20240610T134232Z
DESCRIPTION:<p>Solenidade oficial de Colação de Grau dos Cursos do Insti
 tuto de Geociências 2024/2º Mesa de honra com forro para 10 autoridades 
 (confirmaremos esse número oportunamente) 1 microfone no centro da mesa (
 O Diretor utiliza somente para iniciar a cerimônia\, as demais falas ser
 ão do púlpito) Púlpito com microfone Tela de projeção Bandeiras 1 mes
 a pequena de apoio 3 cadeiras para as servidoras que farão a cerimônia (
 a mesa e as cadeiras podem ficar na lateral do auditório que pagaremos qu
 ando chegarmos) arranjo artificial de flores Espaço do café para que os 
 formandos possam vestir suas becas Hino Nacional e Vídeo institucional da
  Reitora</p>
LAST-MODIFIED;VALUE=DATE-TIME:20250205T123140Z
URL:http://150.164.76.86:8080/cac/agenda/6064948567807826569
END:VEVENT
BEGIN:VTIMEZONE
TZID:America/Sao_Paulo
X-LIC-LOCATION:America/Sao_Paulo
BEGIN:STANDARD
DTSTART;VALUE=DATE-TIME:20250215T230000
TZNAME:BRT
TZOFFSETFROM:-0200
TZOFFSETTO:-0300
END:STANDARD
END:VTIMEZONE
END:VCALENDAR
