BEGIN:VCALENDAR
VERSION:2.0
PRODID:-//Plone.org//NONSGML plone.app.event//EN
X-WR-TIMEZONE:America/Sao_Paulo
BEGIN:VEVENT
SUMMARY:VII Simpósio de Zoologia Sistemática em [ Auditorio Nobre do CAD
  1]
DTSTART;TZID=America/Sao_Paulo;VALUE=DATE-TIME:20241209T080000
DTEND;TZID=America/Sao_Paulo;VALUE=DATE-TIME:20241212T190000
DTSTAMP;VALUE=DATE-TIME:20260419T163839Z
UID:c0c6cb52b8de43d2aeca78e07b06fe9d@150.164.76.86:8080
CREATED;VALUE=DATE-TIME:20240409T120124Z
DESCRIPTION:<p>O Simpósio de Zoologia Sistemática é um evento anual pro
 movido pela Pós-graduação em Zoologia ICB/UFMG. Ele procura congregar p
 esquisadores e estudantes de pós-graduação e graduação interessados n
 a sistemática zoológica\, para discutir questões atuais relativas à ma
 téria\, na forma de pôsteres\, mini-palestras\, mesas redondas e palestr
 as magnas.</p>
LAST-MODIFIED;VALUE=DATE-TIME:20240515T194105Z
URL:http://150.164.76.86:8080/cac/agenda/6063854705147410993
END:VEVENT
BEGIN:VTIMEZONE
TZID:America/Sao_Paulo
X-LIC-LOCATION:America/Sao_Paulo
BEGIN:DAYLIGHT
DTSTART;VALUE=DATE-TIME:20241020T010000
TZNAME:BRST
TZOFFSETFROM:-0300
TZOFFSETTO:-0200
END:DAYLIGHT
END:VTIMEZONE
END:VCALENDAR
