BEGIN:VCALENDAR
VERSION:2.0
PRODID:-//Plone.org//NONSGML plone.app.event//EN
X-WR-TIMEZONE:America/Sao_Paulo
BEGIN:VEVENT
SUMMARY:Reunião do Conselho Universitário em [ Outros espacos]
DTSTART;TZID=America/Sao_Paulo;VALUE=DATE-TIME:20230427T140000
DTEND;TZID=America/Sao_Paulo;VALUE=DATE-TIME:20230427T180000
DTSTAMP;VALUE=DATE-TIME:20260421T145856Z
UID:88f9eebb7fe840e5aeb7fd08c28517c5@150.164.76.86:8080
CREATED;VALUE=DATE-TIME:20230424T113717Z
DESCRIPTION:<p>Técnico para apurar equipamento multimídia e gravação d
 e audio da reunião.</p>
LAST-MODIFIED;VALUE=DATE-TIME:20230424T113735Z
URL:http://150.164.76.86:8080/cac/agenda/6035191085090568900
END:VEVENT
BEGIN:VTIMEZONE
TZID:America/Sao_Paulo
X-LIC-LOCATION:America/Sao_Paulo
BEGIN:STANDARD
DTSTART;VALUE=DATE-TIME:20230225T230000
TZNAME:BRT
TZOFFSETFROM:-0200
TZOFFSETTO:-0300
END:STANDARD
END:VTIMEZONE
END:VCALENDAR
