BEGIN:VCALENDAR
VERSION:2.0
PRODID:-//Plone.org//NONSGML plone.app.event//EN
X-WR-TIMEZONE:America/Sao_Paulo
BEGIN:VEVENT
SUMMARY:Workshop Evento Libras em [ Auditorio A102 do Cad 2 Auditorio A104
  do Cad 2]
DTSTART;TZID=America/Sao_Paulo;VALUE=DATE-TIME:20231127T070000
DTEND;TZID=America/Sao_Paulo;VALUE=DATE-TIME:20231128T210000
DTSTAMP;VALUE=DATE-TIME:20260420T130752Z
UID:6fe9a2e624674ca58e21bfbd24071244@150.164.76.86:8080
CREATED;VALUE=DATE-TIME:20231011T171908Z
DESCRIPTION:<p>Rachel:</p>\n<p>O workshop faz parte do evento de Libras. V
 ão ser usados os dois auditórios com atendimento do Fábio da Fale.</p>
LAST-MODIFIED;VALUE=DATE-TIME:20231121T123614Z
URL:http://150.164.76.86:8080/cac/agenda/6018064052438069715
END:VEVENT
BEGIN:VTIMEZONE
TZID:America/Sao_Paulo
X-LIC-LOCATION:America/Sao_Paulo
BEGIN:DAYLIGHT
DTSTART;VALUE=DATE-TIME:20231015T010000
TZNAME:BRST
TZOFFSETFROM:-0300
TZOFFSETTO:-0200
END:DAYLIGHT
END:VTIMEZONE
END:VCALENDAR
