BEGIN:VCALENDAR
VERSION:2.0
PRODID:-//Plone.org//NONSGML plone.app.event//EN
X-WR-TIMEZONE:America/Sao_Paulo
BEGIN:VEVENT
SUMMARY:ASSEMBLEIA DO SINDIFES em [ Outros espacos]
DTSTART;TZID=America/Sao_Paulo;VALUE=DATE-TIME:20240405T090000
DTEND;TZID=America/Sao_Paulo;VALUE=DATE-TIME:20240405T180000
DTSTAMP;VALUE=DATE-TIME:20260420T044513Z
UID:65a3fe0f12754f9282e264ab79b51ee1@150.164.76.86:8080
CREATED;VALUE=DATE-TIME:20240401T123402Z
DESCRIPTION:ASSEMBLEIA DO SINDIFES
LAST-MODIFIED;VALUE=DATE-TIME:20240404T203252Z
URL:http://150.164.76.86:8080/cac/agenda/5951677842336058983
END:VEVENT
BEGIN:VTIMEZONE
TZID:America/Sao_Paulo
X-LIC-LOCATION:America/Sao_Paulo
BEGIN:STANDARD
DTSTART;VALUE=DATE-TIME:20240217T230000
TZNAME:BRT
TZOFFSETFROM:-0200
TZOFFSETTO:-0300
END:STANDARD
END:VTIMEZONE
END:VCALENDAR
