BEGIN:VCALENDAR
VERSION:2.0
PRODID:-//Plone.org//NONSGML plone.app.event//EN
X-WR-TIMEZONE:America/Sao_Paulo
BEGIN:VEVENT
SUMMARY:Visita técnica Evento Confúcio em [ Auditorio A102 do Cad 2]
DTSTART;TZID=America/Sao_Paulo;VALUE=DATE-TIME:20231123T143000
DTEND;TZID=America/Sao_Paulo;VALUE=DATE-TIME:20231123T153000
DTSTAMP;VALUE=DATE-TIME:20260420T143425Z
UID:9da42b9484de4700931466e3e073fcf0@150.164.76.86:8080
CREATED;VALUE=DATE-TIME:20231117T121213Z
DESCRIPTION:Visita do Fábio (Apoio Técnico - Faculdade de Letras - UFMG)
  ao CAD2 - A102
LAST-MODIFIED;VALUE=DATE-TIME:20231117T121312Z
URL:http://150.164.76.86:8080/cac/agenda/5910889019932691263
END:VEVENT
BEGIN:VTIMEZONE
TZID:America/Sao_Paulo
X-LIC-LOCATION:America/Sao_Paulo
BEGIN:DAYLIGHT
DTSTART;VALUE=DATE-TIME:20231015T010000
TZNAME:BRST
TZOFFSETFROM:-0300
TZOFFSETTO:-0200
END:DAYLIGHT
END:VTIMEZONE
END:VCALENDAR
