BEGIN:VCALENDAR
VERSION:2.0
PRODID:-//Plone.org//NONSGML plone.app.event//EN
X-WR-TIMEZONE:America/Sao_Paulo
BEGIN:VEVENT
SUMMARY:Homenagem aos 80 anos do Prof. Alaor Chaves\, 90 anos do Prof. Ram
 ayana Gazzinelli e 100 anos da Profa. Beatriz Alvarenga\, do Departamento 
 de Física em [ Auditorio A102 do Cad 2]
DTSTART;TZID=America/Sao_Paulo;VALUE=DATE-TIME:20230825T150000
DTEND;TZID=America/Sao_Paulo;VALUE=DATE-TIME:20230825T190000
DTSTAMP;VALUE=DATE-TIME:20260421T091453Z
UID:f369c1b3cd7b4f15b3920d2240c04092@150.164.76.86:8080
CREATED;VALUE=DATE-TIME:20230822T182357Z
DESCRIPTION:<p>Homenagem aos 80 anos do Prof. Alaor Chaves\, 90 anos do Pr
 of. Ramayana Gazzinelli e 100 anos da Profa. Beatriz Alvarenga.</p>
LAST-MODIFIED;VALUE=DATE-TIME:20230823T173409Z
URL:http://150.164.76.86:8080/cac/agenda/5892112917578379983
END:VEVENT
BEGIN:VTIMEZONE
TZID:America/Sao_Paulo
X-LIC-LOCATION:America/Sao_Paulo
BEGIN:STANDARD
DTSTART;VALUE=DATE-TIME:20230225T230000
TZNAME:BRT
TZOFFSETFROM:-0200
TZOFFSETTO:-0300
END:STANDARD
END:VTIMEZONE
END:VCALENDAR
