BEGIN:VCALENDAR
VERSION:2.0
PRODID:-//Plone.org//NONSGML plone.app.event//EN
X-WR-TIMEZONE:America/Sao_Paulo
BEGIN:VEVENT
SUMMARY:MOVIMENTO Cineclube: Adélia Sampaio em [ Arena da praça de servi
 ços]
DTSTART;TZID=America/Sao_Paulo;VALUE=DATE-TIME:20231128T190000
DTEND;TZID=America/Sao_Paulo;VALUE=DATE-TIME:20231128T210000
DTSTAMP;VALUE=DATE-TIME:20260420T130525Z
UID:89c982b54c76466ea5f887c2c9f99ffc@150.164.76.86:8080
CREATED;VALUE=DATE-TIME:20231116T155954Z
DESCRIPTION:É um cineclube que fará uma exibição de 4 curtas da filmes
  de Plástico (66') e depois terá uma breve discussão sobre o que foi as
 sistido. Serão usadas a tela inflável\, o som e o motor do Núcleo de An
 tropologia Visual (NAV)
LAST-MODIFIED;VALUE=DATE-TIME:20231116T162706Z
URL:http://150.164.76.86:8080/cac/agenda/5883671802892398091
END:VEVENT
BEGIN:VTIMEZONE
TZID:America/Sao_Paulo
X-LIC-LOCATION:America/Sao_Paulo
BEGIN:DAYLIGHT
DTSTART;VALUE=DATE-TIME:20231015T010000
TZNAME:BRST
TZOFFSETFROM:-0300
TZOFFSETTO:-0200
END:DAYLIGHT
END:VTIMEZONE
END:VCALENDAR
