BEGIN:VCALENDAR
VERSION:2.0
PRODID:-//Plone.org//NONSGML plone.app.event//EN
X-WR-TIMEZONE:America/Sao_Paulo
BEGIN:VEVENT
SUMMARY:Mostra Sua UFMG no Campus Pampulha em [ Auditorio Nobre do CAD 1 A
 uditorio A102 do Cad 2 Auditorio A104 do Cad 2 Auditório B101/102 do CAD 
 3 Auditório B106 do CAD3 Auditório B107 do CAD3]
DTSTART;TZID=America/Sao_Paulo;VALUE=DATE-TIME:20250523T080000
DTEND;TZID=America/Sao_Paulo;VALUE=DATE-TIME:20250524T200000
DTSTAMP;VALUE=DATE-TIME:20260419T091234Z
UID:0c674913dfac46adaa32a69a12cb653d@150.164.76.86:8080
CREATED;VALUE=DATE-TIME:20241125T183339Z
DESCRIPTION:<p>Evento previsto no calendário acadêmico. Dia 23/05/25 mon
 tagem dos espaços.</p>
LAST-MODIFIED;VALUE=DATE-TIME:20241203T175658Z
URL:http://150.164.76.86:8080/cac/agenda/5883087451964506031
END:VEVENT
BEGIN:VTIMEZONE
TZID:America/Sao_Paulo
X-LIC-LOCATION:America/Sao_Paulo
BEGIN:STANDARD
DTSTART;VALUE=DATE-TIME:20250215T230000
TZNAME:BRT
TZOFFSETFROM:-0200
TZOFFSETTO:-0300
END:STANDARD
END:VTIMEZONE
END:VCALENDAR
