BEGIN:VCALENDAR
VERSION:2.0
PRODID:-//Plone.org//NONSGML plone.app.event//EN
X-WR-TIMEZONE:America/Sao_Paulo
BEGIN:VEVENT
SUMMARY:Concurso Público - Professor Efetivo - Edital 136/2022 - Centro P
 edagógico em [ Auditorio Nobre do CAD 1]
DTSTART;TZID=America/Sao_Paulo;VALUE=DATE-TIME:20220502T070000
DTEND;TZID=America/Sao_Paulo;VALUE=DATE-TIME:20220502T180000
DTSTAMP;VALUE=DATE-TIME:20260422T063450Z
UID:5af32057a5d44017b33013422862c726@150.164.76.86:8080
CREATED;VALUE=DATE-TIME:20220406T114340Z
DESCRIPTION:<p>Concurso Público para Professor Efetivo - Centro Pedagógi
 co Precisamos de auditório/sala que comporte até 70 pessoas (inclui comi
 ssão avaliadora e candidatos). Necessário microfone\, notebook/computado
 r e recurso audiovisual. A programação inclui a apresentação da banca 
 e posteriormente a realização de prova escrita pelos candidatos.</p>
LAST-MODIFIED;VALUE=DATE-TIME:20220406T154615Z
URL:http://150.164.76.86:8080/cac/agenda/5878392358748991276
END:VEVENT
BEGIN:VTIMEZONE
TZID:America/Sao_Paulo
X-LIC-LOCATION:America/Sao_Paulo
BEGIN:STANDARD
DTSTART;VALUE=DATE-TIME:20220219T230000
TZNAME:BRT
TZOFFSETFROM:-0200
TZOFFSETTO:-0300
END:STANDARD
END:VTIMEZONE
END:VCALENDAR
