BEGIN:VCALENDAR
VERSION:2.0
PRODID:-//Plone.org//NONSGML plone.app.event//EN
X-WR-TIMEZONE:America/Sao_Paulo
BEGIN:VEVENT
SUMMARY:Palestra Centro de Estudos Indiano - DRI em [ Auditório B106 do C
 AD3]
DTSTART;TZID=America/Sao_Paulo;VALUE=DATE-TIME:20241114T090000
DTEND;TZID=America/Sao_Paulo;VALUE=DATE-TIME:20241114T190000
DTSTAMP;VALUE=DATE-TIME:20260419T175756Z
UID:5478ab41a7cd4fccb28b20c4eed1cac4@150.164.76.86:8080
CREATED;VALUE=DATE-TIME:20241021T172924Z
DESCRIPTION:<p>Necessário projeção e dois microfones</p>
LAST-MODIFIED;VALUE=DATE-TIME:20241029T132345Z
URL:http://150.164.76.86:8080/cac/agenda/5818882784498778087
END:VEVENT
BEGIN:VTIMEZONE
TZID:America/Sao_Paulo
X-LIC-LOCATION:America/Sao_Paulo
BEGIN:DAYLIGHT
DTSTART;VALUE=DATE-TIME:20241020T010000
TZNAME:BRST
TZOFFSETFROM:-0300
TZOFFSETTO:-0200
END:DAYLIGHT
END:VTIMEZONE
END:VCALENDAR
