BEGIN:VCALENDAR
VERSION:2.0
PRODID:-//Plone.org//NONSGML plone.app.event//EN
X-WR-TIMEZONE:America/Sao_Paulo
BEGIN:VEVENT
SUMMARY:Série de Seminários CTVacinas em [ Outros espacos]
DTSTART;TZID=America/Sao_Paulo;VALUE=DATE-TIME:20240320T160000
DTEND;TZID=America/Sao_Paulo;VALUE=DATE-TIME:20240320T174000
DTSTAMP;VALUE=DATE-TIME:20260420T063328Z
UID:e549000d691a44ef866e5d585aa2ac2d@150.164.76.86:8080
CREATED;VALUE=DATE-TIME:20240315T212053Z
DESCRIPTION:É mais uma palestra da Série de Seminários CTVacinas. Se tu
 do der certo no dia anterior\, na terça-feira\, a ideia é que a transmis
 são seja conduzida pela nossa equipe\, mas com um suporte de um técnico 
 da CAC.\n\nA palestra segue os mesmos moldes das anteriores: apenas um pal
 estrante\, com microfone. A ideia é fazer a transmissão com uma câmera 
 fixa\, no tripé. \n\nO cabo de rede que alimenta a internet - que falhou 
 na última vez\, obrigando a fazer a transmissão pelo WiFi - foi conserta
 do.
LAST-MODIFIED;VALUE=DATE-TIME:20240318T144559Z
URL:http://150.164.76.86:8080/cac/agenda/5805701591684535774
END:VEVENT
BEGIN:VTIMEZONE
TZID:America/Sao_Paulo
X-LIC-LOCATION:America/Sao_Paulo
BEGIN:STANDARD
DTSTART;VALUE=DATE-TIME:20240217T230000
TZNAME:BRT
TZOFFSETFROM:-0200
TZOFFSETTO:-0300
END:STANDARD
END:VTIMEZONE
END:VCALENDAR
