BEGIN:VCALENDAR
VERSION:2.0
PRODID:-//Plone.org//NONSGML plone.app.event//EN
X-WR-TIMEZONE:America/Sao_Paulo
BEGIN:VEVENT
SUMMARY:Concurso FIOCRUZ em [ Auditorio A102 do Cad 2 Auditorio A104 do Ca
 d 2]
DTSTART;TZID=America/Sao_Paulo;VALUE=DATE-TIME:20240427T070000
DTEND;TZID=America/Sao_Paulo;VALUE=DATE-TIME:20240428T210000
DTSTAMP;VALUE=DATE-TIME:20260420T044632Z
UID:600f65b0de5c4f928aa673febe81cb57@150.164.76.86:8080
CREATED;VALUE=DATE-TIME:20240306T190421Z
DESCRIPTION:<p>concurso público</p>
LAST-MODIFIED;VALUE=DATE-TIME:20240412T135930Z
URL:http://150.164.76.86:8080/cac/agenda/5800995234123375801
END:VEVENT
BEGIN:VTIMEZONE
TZID:America/Sao_Paulo
X-LIC-LOCATION:America/Sao_Paulo
BEGIN:STANDARD
DTSTART;VALUE=DATE-TIME:20240217T230000
TZNAME:BRT
TZOFFSETFROM:-0200
TZOFFSETTO:-0300
END:STANDARD
END:VTIMEZONE
END:VCALENDAR
