BEGIN:VCALENDAR
VERSION:2.0
PRODID:-//Plone.org//NONSGML plone.app.event//EN
X-WR-TIMEZONE:America/Sao_Paulo
BEGIN:VEVENT
SUMMARY:Reunião Conselho Universitário em [ Outros espacos]
DTSTART;TZID=America/Sao_Paulo;VALUE=DATE-TIME:20231205T140000
DTEND;TZID=America/Sao_Paulo;VALUE=DATE-TIME:20231205T170000
DTSTAMP;VALUE=DATE-TIME:20260420T114305Z
UID:43bec41277df4cbcad1e641d95ee4662@150.164.76.86:8080
CREATED;VALUE=DATE-TIME:20231204T102023Z
DESCRIPTION:<p><span><span><span>Operar o equipamento multimídia da Sala 
 das Sessões e gravar em áudio a reunião</span></span></span></p>
LAST-MODIFIED;VALUE=DATE-TIME:20231204T102116Z
URL:http://150.164.76.86:8080/cac/agenda/5776009596744350
END:VEVENT
BEGIN:VTIMEZONE
TZID:America/Sao_Paulo
X-LIC-LOCATION:America/Sao_Paulo
BEGIN:DAYLIGHT
DTSTART;VALUE=DATE-TIME:20231015T010000
TZNAME:BRST
TZOFFSETFROM:-0300
TZOFFSETTO:-0200
END:DAYLIGHT
END:VTIMEZONE
END:VCALENDAR
