BEGIN:VCALENDAR
VERSION:2.0
PRODID:-//Plone.org//NONSGML plone.app.event//EN
X-WR-TIMEZONE:America/Sao_Paulo
BEGIN:VEVENT
SUMMARY:Vestibular 2025 da Universidade Federal de Uberlândia em [ Audito
 rio A102 do Cad 2 Auditorio A104 do Cad 2 Outros espacos]
DTSTART;TZID=America/Sao_Paulo;VALUE=DATE-TIME:20250426T120000
DTEND;TZID=America/Sao_Paulo;VALUE=DATE-TIME:20250427T210000
DTSTAMP;VALUE=DATE-TIME:20260419T120159Z
UID:45bd906f53c940ac8c80ffaa2ae3bebe@150.164.76.86:8080
CREATED;VALUE=DATE-TIME:20250204T123735Z
DESCRIPTION:<p><b><span>Vestibular 2025 da Universidade Federal de Uberlâ
 ndia</span></b></p>
LAST-MODIFIED;VALUE=DATE-TIME:20250204T123747Z
URL:http://150.164.76.86:8080/cac/agenda/5760927302390889883
END:VEVENT
BEGIN:VTIMEZONE
TZID:America/Sao_Paulo
X-LIC-LOCATION:America/Sao_Paulo
BEGIN:STANDARD
DTSTART;VALUE=DATE-TIME:20250215T230000
TZNAME:BRT
TZOFFSETFROM:-0200
TZOFFSETTO:-0300
END:STANDARD
END:VTIMEZONE
END:VCALENDAR
