BEGIN:VCALENDAR
VERSION:2.0
PRODID:-//Plone.org//NONSGML plone.app.event//EN
X-WR-TIMEZONE:America/Sao_Paulo
BEGIN:VEVENT
SUMMARY:Bloqueio NAV em [ Auditorio da Reitoria Saguao da Reitoria Gramado
  da Reitoria Arena da praça de serviços Auditorio 1A do CAD 1 Auditorio 
 2A do CAD 1 Auditorio A102 do Cad 2 Auditorio A104 do Cad 2 Auditório B10
 1/102 do CAD 3 Auditório B301 do CAD 3 Auditório B302 do CAD 3 Auditóri
 o B106 do CAD3 Auditório B107 do CAD3 Outros espacos]
DTSTART;TZID=America/Sao_Paulo;VALUE=DATE-TIME:20221213T070100
DTEND;TZID=America/Sao_Paulo;VALUE=DATE-TIME:20221213T235900
DTSTAMP;VALUE=DATE-TIME:20260421T222334Z
UID:82e9448f759a46578f4cf096d287c00b@150.164.76.86:8080
CREATED;VALUE=DATE-TIME:20221111T212121Z
DESCRIPTION:<p>NAV</p>
LAST-MODIFIED;VALUE=DATE-TIME:20230111T201111Z
URL:http://150.164.76.86:8080/cac/agenda/5748482979927067939
END:VEVENT
BEGIN:VTIMEZONE
TZID:America/Sao_Paulo
X-LIC-LOCATION:America/Sao_Paulo
BEGIN:DAYLIGHT
DTSTART;VALUE=DATE-TIME:20221016T010000
TZNAME:BRST
TZOFFSETFROM:-0300
TZOFFSETTO:-0200
END:DAYLIGHT
END:VTIMEZONE
END:VCALENDAR
