BEGIN:VCALENDAR
VERSION:2.0
PRODID:-//Plone.org//NONSGML plone.app.event//EN
X-WR-TIMEZONE:America/Sao_Paulo
BEGIN:VEVENT
SUMMARY:I Simpósio Temático da Rede Mineira de Ciências Forenses em [ A
 uditório B101/102 do CAD 3 Outros espacos]
DTSTART;TZID=America/Sao_Paulo;VALUE=DATE-TIME:20241009T070000
DTEND;TZID=America/Sao_Paulo;VALUE=DATE-TIME:20241011T200000
DTSTAMP;VALUE=DATE-TIME:20260419T193225Z
UID:85f09ece985c464fbe29f5ebd2266f29@150.164.76.86:8080
CREATED;VALUE=DATE-TIME:20240613T144800Z
DESCRIPTION:<p>O I Simpósio Temático da Rede Mineira de Ciências Forens
 es é uma inicitativa da Rede Mineira de Ciências Forenses com o apoio da
  Fapemig\, congregando profissionais da academia\, professores\, pesquisad
 orees e alunos\, e peritos criminais do estado de Minas Gerais. O tema em 
 discussão deverá abordar a questão ambiental sob o ponto de vista foren
 se\, com apresentação de palestras temáticas\, discussão em mesas redo
 ndas e apresentação de trabalhos. A proposta de realização do evento s
 erá enviado em breve para apreciação do SIEX. Serão necessários os eq
 uipamentos audiovisual para a projeção das palestras\, mobiliário\, mes
 as e cadeiras para mesa redonda com aproximdamente 8 pessoas no palco. Toa
 lha de mesa se houver. Microfones para o palestrante e perguntas na platé
 ia. Espaço e mesas para coffee-break no meio da manhã e meio da tarde e 
 espaço para montagem e apresentação de posters. Email alterntivo para c
 ontato: karlaweit@gmail.com</p>
LAST-MODIFIED;VALUE=DATE-TIME:20241001T122313Z
URL:http://150.164.76.86:8080/cac/agenda/5742081859685462114
END:VEVENT
BEGIN:VTIMEZONE
TZID:America/Sao_Paulo
X-LIC-LOCATION:America/Sao_Paulo
BEGIN:STANDARD
DTSTART;VALUE=DATE-TIME:20240217T230000
TZNAME:BRT
TZOFFSETFROM:-0200
TZOFFSETTO:-0300
END:STANDARD
END:VTIMEZONE
END:VCALENDAR
