BEGIN:VCALENDAR
VERSION:2.0
PRODID:-//Plone.org//NONSGML plone.app.event//EN
X-WR-TIMEZONE:America/Sao_Paulo
BEGIN:VEVENT
SUMMARY:Festival de Inverno da UFMG em [ Gramado da Reitoria Outros espaco
 s Em torno da Praca de Servicos Auditorio da Reitoria]
DTSTART;TZID=America/Sao_Paulo;VALUE=DATE-TIME:20220702T080000
DTEND;TZID=America/Sao_Paulo;VALUE=DATE-TIME:20220709T230000
DTSTAMP;VALUE=DATE-TIME:20260422T030525Z
UID:1b31c3b8c3f2474682061506e68dbf59@150.164.76.86:8080
CREATED;VALUE=DATE-TIME:20220429T193301Z
DESCRIPTION:<p>54º Festival de Inverno da UFMG</p>
LAST-MODIFIED;VALUE=DATE-TIME:20220621T191206Z
URL:http://150.164.76.86:8080/cac/agenda/5733495133660073625
END:VEVENT
BEGIN:VTIMEZONE
TZID:America/Sao_Paulo
X-LIC-LOCATION:America/Sao_Paulo
BEGIN:STANDARD
DTSTART;VALUE=DATE-TIME:20220219T230000
TZNAME:BRT
TZOFFSETFROM:-0200
TZOFFSETTO:-0300
END:STANDARD
END:VTIMEZONE
END:VCALENDAR
