BEGIN:VCALENDAR
VERSION:2.0
PRODID:-//Plone.org//NONSGML plone.app.event//EN
X-WR-TIMEZONE:America/Sao_Paulo
BEGIN:VEVENT
SUMMARY:RIGOR E RELEVÂNCIA NO SERVIÇO PÚBLICO: métodos e ferramentas q
 ue possibilitam o desenho de soluções inovadoras em [ Auditorio da Reito
 ria]
DTSTART;TZID=America/Sao_Paulo;VALUE=DATE-TIME:20240122T080000
DTEND;TZID=America/Sao_Paulo;VALUE=DATE-TIME:20240126T120000
DTSTAMP;VALUE=DATE-TIME:20260420T080832Z
UID:55aed3dc396f4d6a9a2e3e51a8458a72@150.164.76.86:8080
CREATED;VALUE=DATE-TIME:20240110T191607Z
DESCRIPTION:<p>Curso ministrado pelo DAST. Haverá gravação em vídeo da
 s aulas.</p>
LAST-MODIFIED;VALUE=DATE-TIME:20240115T135753Z
URL:http://150.164.76.86:8080/cac/agenda/5729469951544903299
END:VEVENT
BEGIN:VTIMEZONE
TZID:America/Sao_Paulo
X-LIC-LOCATION:America/Sao_Paulo
BEGIN:DAYLIGHT
DTSTART;VALUE=DATE-TIME:20231015T010000
TZNAME:BRST
TZOFFSETFROM:-0300
TZOFFSETTO:-0200
END:DAYLIGHT
END:VTIMEZONE
END:VCALENDAR
