BEGIN:VCALENDAR
VERSION:2.0
PRODID:-//Plone.org//NONSGML plone.app.event//EN
X-WR-TIMEZONE:America/Sao_Paulo
BEGIN:VEVENT
SUMMARY:Segunda Sem Carne em [ Entorno da Praca de Servicos]
DTSTART;TZID=America/Sao_Paulo;VALUE=DATE-TIME:20240415T120000
DTEND;TZID=America/Sao_Paulo;VALUE=DATE-TIME:20240415T140000
DTSTAMP;VALUE=DATE-TIME:20260420T044605Z
UID:ed57405eb5d44284aae31cedfae06827@150.164.76.86:8080
CREATED;VALUE=DATE-TIME:20240227T163531Z
DESCRIPTION:O evento será para divulgar o projeto em Carne Cultiva pelos 
 alunos do ICB. O evento contará com uma mesa\, de 1m x 1\,5m\, para expos
 ição do nosso material e salgados veganos para quem passar pela nossa me
 sa. Também será necessárioe um painel para colocar um postêr de 1\,2x0
 \,9m.
LAST-MODIFIED;VALUE=DATE-TIME:20240227T164914Z
URL:http://150.164.76.86:8080/cac/agenda/5701269574046025635
END:VEVENT
BEGIN:VTIMEZONE
TZID:America/Sao_Paulo
X-LIC-LOCATION:America/Sao_Paulo
BEGIN:STANDARD
DTSTART;VALUE=DATE-TIME:20240217T230000
TZNAME:BRT
TZOFFSETFROM:-0200
TZOFFSETTO:-0300
END:STANDARD
END:VTIMEZONE
END:VCALENDAR
