BEGIN:VCALENDAR
VERSION:2.0
PRODID:-//Plone.org//NONSGML plone.app.event//EN
X-WR-TIMEZONE:America/Sao_Paulo
BEGIN:VEVENT
SUMMARY:Jornada de empreendedorismo em Nanotecnologia Merck UFMG em [ Audi
 tório B106 do CAD3 - s/ ar condic Auditório B107 do CAD3]
DTSTART;TZID=America/Sao_Paulo;VALUE=DATE-TIME:20240410T090000
DTEND;TZID=America/Sao_Paulo;VALUE=DATE-TIME:20240412T170000
DTSTAMP;VALUE=DATE-TIME:20260420T045814Z
UID:58c1c8add4bb4bd6afec359fe61a265d@150.164.76.86:8080
CREATED;VALUE=DATE-TIME:20230925T125751Z
DESCRIPTION:<p>jornada de emprendedorismo para docentes e discentes envolv
 idos em atividades de nanotecnologia. Progrmação a ser enviada</p>
LAST-MODIFIED;VALUE=DATE-TIME:20240314T120326Z
URL:http://150.164.76.86:8080/cac/agenda/5692558845454914977
END:VEVENT
BEGIN:VTIMEZONE
TZID:America/Sao_Paulo
X-LIC-LOCATION:America/Sao_Paulo
BEGIN:STANDARD
DTSTART;VALUE=DATE-TIME:20240217T230000
TZNAME:BRT
TZOFFSETFROM:-0200
TZOFFSETTO:-0300
END:STANDARD
END:VTIMEZONE
END:VCALENDAR
