BEGIN:VCALENDAR
VERSION:2.0
PRODID:-//Plone.org//NONSGML plone.app.event//EN
X-WR-TIMEZONE:America/Sao_Paulo
BEGIN:VEVENT
SUMMARY:Recepção de Calouros 1/2023 em [ Auditorio da Reitoria Saguao da
  Reitoria Gramado da Reitoria Arena da praça de serviços Entorno da Prac
 a de Servicos Auditorio Nobre do CAD 1 Auditorio 1A do CAD 1 Auditorio 2A 
 do CAD 1 Auditório B301 do CAD 3 Auditório B302 do CAD 3 Auditório B107
  do CAD3 Outros espacos Auditorio A104 do Cad 2 Auditorio A102 do Cad 2]
DTSTART;TZID=America/Sao_Paulo;VALUE=DATE-TIME:20230317T060000
DTEND;TZID=America/Sao_Paulo;VALUE=DATE-TIME:20230321T220000
DTSTAMP;VALUE=DATE-TIME:20260421T164257Z
UID:7bd52450bcbd40e4936af5d885e8ce89@150.164.76.86:8080
CREATED;VALUE=DATE-TIME:20221109T154736Z
DESCRIPTION:<p>Recepção de calouros</p>
LAST-MODIFIED;VALUE=DATE-TIME:20230214T165854Z
URL:http://150.164.76.86:8080/cac/agenda/5678697273744104783
END:VEVENT
BEGIN:VTIMEZONE
TZID:America/Sao_Paulo
X-LIC-LOCATION:America/Sao_Paulo
BEGIN:STANDARD
DTSTART;VALUE=DATE-TIME:20230225T230000
TZNAME:BRT
TZOFFSETFROM:-0200
TZOFFSETTO:-0300
END:STANDARD
END:VTIMEZONE
END:VCALENDAR
