BEGIN:VCALENDAR
VERSION:2.0
PRODID:-//Plone.org//NONSGML plone.app.event//EN
X-WR-TIMEZONE:America/Sao_Paulo
BEGIN:VEVENT
SUMMARY:Transmissão da apuração das consultas centralizadas em [ Outros
  espacos]
DTSTART;TZID=America/Sao_Paulo;VALUE=DATE-TIME:20221109T170000
DTEND;TZID=America/Sao_Paulo;VALUE=DATE-TIME:20221109T180000
DTSTAMP;VALUE=DATE-TIME:20260421T221747Z
UID:5c301817835e4f0d9996af0932468c00@150.164.76.86:8080
CREATED;VALUE=DATE-TIME:20220928T200202Z
DESCRIPTION:<p>Transmissão da apuração dos votos das consultas centrali
 zadas para recomposição dos órgãos colegiados da Administração Centr
 al\, no canal Youtube da CAC. Favor reservar Zoom do CEDECOM. Em cena\, no
  máximo duas pessoas. Chat fechado.</p>
LAST-MODIFIED;VALUE=DATE-TIME:20221003T131927Z
URL:http://150.164.76.86:8080/cac/agenda/5669018374350009250
END:VEVENT
BEGIN:VTIMEZONE
TZID:America/Sao_Paulo
X-LIC-LOCATION:America/Sao_Paulo
BEGIN:DAYLIGHT
DTSTART;VALUE=DATE-TIME:20221016T010000
TZNAME:BRST
TZOFFSETFROM:-0300
TZOFFSETTO:-0200
END:DAYLIGHT
END:VTIMEZONE
END:VCALENDAR
