BEGIN:VCALENDAR
VERSION:2.0
PRODID:-//Plone.org//NONSGML plone.app.event//EN
X-WR-TIMEZONE:America/Sao_Paulo
BEGIN:VEVENT
SUMMARY:Seminário Internacional  Pesquisas eleitorais:  Desafios e metodo
 logias na democracia contemporânea em [ Auditorio Nobre do CAD 1]
DTSTART;TZID=America/Sao_Paulo;VALUE=DATE-TIME:20220517T180000
DTEND;TZID=America/Sao_Paulo;VALUE=DATE-TIME:20220519T210000
DTSTAMP;VALUE=DATE-TIME:20260422T081523Z
UID:5bdd991d8c2048858ea645eb78d908e0@150.164.76.86:8080
CREATED;VALUE=DATE-TIME:20220403T170119Z
DESCRIPTION:Seminário Internacional “Pesquisas eleitorais: desafios e m
 etodologias na democracia contemporânea”\, discussão dos temas: \n1. A
 mérica Latina: As pesquisas e o comportamento do eleitor \n2. Europa e Br
 asil: as tendências eleitorais e comportamentais captadas nas pesquisas \
 n3. – Pesquisas em eleições e sistemas partidários nos estados brasil
 eiros (1998 – 2018) \n4. Pesquisas\, eleições e Jornalismo Político: 
 a cobertura das mídias \n5. Pesquisas eleitorais e sua diversidade metodo
 lógica: estudos qualitativos e quantitativos \n6. As eleições municipai
 s da pandemia \n7. As metodologias e os desafios das pesquisas eleitorais 
 no mundo
LAST-MODIFIED;VALUE=DATE-TIME:20220404T152740Z
URL:http://150.164.76.86:8080/cac/agenda/5668454650322769589
END:VEVENT
BEGIN:VTIMEZONE
TZID:America/Sao_Paulo
X-LIC-LOCATION:America/Sao_Paulo
BEGIN:STANDARD
DTSTART;VALUE=DATE-TIME:20220219T230000
TZNAME:BRT
TZOFFSETFROM:-0200
TZOFFSETTO:-0300
END:STANDARD
END:VTIMEZONE
END:VCALENDAR
