BEGIN:VCALENDAR
VERSION:2.0
PRODID:-//Plone.org//NONSGML plone.app.event//EN
X-WR-TIMEZONE:America/Sao_Paulo
BEGIN:VEVENT
SUMMARY:Vestibular da UFMG - Habilidades 2024 em [ Auditorio Nobre do CAD 
 1]
DTSTART;TZID=America/Sao_Paulo;VALUE=DATE-TIME:20240203T070000
DTEND;TZID=America/Sao_Paulo;VALUE=DATE-TIME:20240204T210000
DTSTAMP;VALUE=DATE-TIME:20260420T080913Z
UID:0d62a94d15e249ecb970d8b97b32a2a9@150.164.76.86:8080
CREATED;VALUE=DATE-TIME:20231204T134456Z
DESCRIPTION:<p>Vestibular de habilidades</p>
LAST-MODIFIED;VALUE=DATE-TIME:20231204T134524Z
URL:http://150.164.76.86:8080/cac/agenda/5660217592621653866
END:VEVENT
BEGIN:VTIMEZONE
TZID:America/Sao_Paulo
X-LIC-LOCATION:America/Sao_Paulo
BEGIN:DAYLIGHT
DTSTART;VALUE=DATE-TIME:20231015T010000
TZNAME:BRST
TZOFFSETFROM:-0300
TZOFFSETTO:-0200
END:DAYLIGHT
END:VTIMEZONE
END:VCALENDAR
