BEGIN:VCALENDAR
VERSION:2.0
PRODID:-//Plone.org//NONSGML plone.app.event//EN
X-WR-TIMEZONE:America/Sao_Paulo
BEGIN:VEVENT
SUMMARY:Palestra Centro de Estudos Indianos - DRI em [ Auditorio A102 do C
 ad 2]
DTSTART;TZID=America/Sao_Paulo;VALUE=DATE-TIME:20230308T180000
DTEND;TZID=America/Sao_Paulo;VALUE=DATE-TIME:20230309T213000
DTSTAMP;VALUE=DATE-TIME:20260421T164118Z
UID:f3c202a052f84720bfc5551f9f4585a1@150.164.76.86:8080
CREATED;VALUE=DATE-TIME:20230301T132856Z
DESCRIPTION:<p>Palestra do sr. Christopher Wallis que contará com o apoio
  do Centro de Estudos Indianos da Diretoria de Relações Internacionais. 
 Será necessário para a palestra projetor para apresentação de PPT e 2 
 microfones\, mesa e cadeira para o palestrante.</p>
LAST-MODIFIED;VALUE=DATE-TIME:20230302T185029Z
URL:http://150.164.76.86:8080/cac/agenda/5660072896210021015
END:VEVENT
BEGIN:VTIMEZONE
TZID:America/Sao_Paulo
X-LIC-LOCATION:America/Sao_Paulo
BEGIN:STANDARD
DTSTART;VALUE=DATE-TIME:20230225T230000
TZNAME:BRT
TZOFFSETFROM:-0200
TZOFFSETTO:-0300
END:STANDARD
END:VTIMEZONE
END:VCALENDAR
