BEGIN:VCALENDAR
VERSION:2.0
PRODID:-//Plone.org//NONSGML plone.app.event//EN
X-WR-TIMEZONE:America/Sao_Paulo
BEGIN:VEVENT
SUMMARY:23ª UFMG JOVEM em [ Auditorio da Reitoria]
DTSTART;TZID=America/Sao_Paulo;VALUE=DATE-TIME:20220921T140000
DTEND;TZID=America/Sao_Paulo;VALUE=DATE-TIME:20220921T170000
DTSTAMP;VALUE=DATE-TIME:20260422T012347Z
UID:77f1b4d883f64f76a0cf4a942ea47dba@150.164.76.86:8080
CREATED;VALUE=DATE-TIME:20220808T194538Z
DESCRIPTION:<p>Cerimônia de Abertura da 23ª UFMG JOVEM. Evento já confi
 rmado na agenda da Reitora</p>
LAST-MODIFIED;VALUE=DATE-TIME:20220920T185739Z
URL:http://150.164.76.86:8080/cac/agenda/5648975019965930886
END:VEVENT
BEGIN:VTIMEZONE
TZID:America/Sao_Paulo
X-LIC-LOCATION:America/Sao_Paulo
BEGIN:STANDARD
DTSTART;VALUE=DATE-TIME:20220219T230000
TZNAME:BRT
TZOFFSETFROM:-0200
TZOFFSETTO:-0300
END:STANDARD
END:VTIMEZONE
END:VCALENDAR
