BEGIN:VCALENDAR
VERSION:2.0
PRODID:-//Plone.org//NONSGML plone.app.event//EN
X-WR-TIMEZONE:America/Sao_Paulo
BEGIN:VEVENT
SUMMARY:Processo Seletivo Hospital Risoleta Tolentino Neves - HRTN em [ Au
 ditorio Nobre do CAD 1 Auditorio 1A do CAD 1 Auditorio 2A do CAD 1 Auditor
 io A102 do Cad 2 Auditorio A104 do Cad 2 Auditório B101/102 do CAD 3 Audi
 tório B106 do CAD3 Auditório B107 do CAD3 Auditório B301 do CAD 3 Audit
 ório B302 do CAD 3 Auditório B306 do CAD3 Outros espacos]
DTSTART;TZID=America/Sao_Paulo;VALUE=DATE-TIME:20240615T070000
DTEND;TZID=America/Sao_Paulo;VALUE=DATE-TIME:20240616T210000
DTSTAMP;VALUE=DATE-TIME:20260420T014337Z
UID:6f4d08516fa04515a29207f41d33f7c7@150.164.76.86:8080
CREATED;VALUE=DATE-TIME:20240521T171303Z
DESCRIPTION:<p><span>Processo Seletivo Hospital Risoleta Tolentino Neves -
  HRTN</span></p>
LAST-MODIFIED;VALUE=DATE-TIME:20240521T171352Z
URL:http://150.164.76.86:8080/cac/agenda/5620376985578588158
END:VEVENT
BEGIN:VTIMEZONE
TZID:America/Sao_Paulo
X-LIC-LOCATION:America/Sao_Paulo
BEGIN:STANDARD
DTSTART;VALUE=DATE-TIME:20240217T230000
TZNAME:BRT
TZOFFSETFROM:-0200
TZOFFSETTO:-0300
END:STANDARD
END:VTIMEZONE
END:VCALENDAR
