BEGIN:VCALENDAR
VERSION:2.0
PRODID:-//Plone.org//NONSGML plone.app.event//EN
X-WR-TIMEZONE:America/Sao_Paulo
BEGIN:VEVENT
SUMMARY:Feira Indígena em [ Entorno da Praca de Servicos]
DTSTART;TZID=America/Sao_Paulo;VALUE=DATE-TIME:20230522T060000
DTEND;TZID=America/Sao_Paulo;VALUE=DATE-TIME:20230523T210000
DTSTAMP;VALUE=DATE-TIME:20260421T145728Z
UID:cc5b014005624bcd849bca891d7c3d1c@150.164.76.86:8080
CREATED;VALUE=DATE-TIME:20230324T111524Z
DESCRIPTION:<p>Entre os dia 22 a 26/05 a PRAE - Pró-Reitoria de Assuntos 
 Estudantis realizará a feira indígena. O evento contará com a participa
 ção de coletividades indígenas para debate sobre politicas de acesso e 
 permanência estudantil na UFMG</p>
LAST-MODIFIED;VALUE=DATE-TIME:20230511T141930Z
URL:http://150.164.76.86:8080/cac/agenda/5609822168633574209
END:VEVENT
BEGIN:VTIMEZONE
TZID:America/Sao_Paulo
X-LIC-LOCATION:America/Sao_Paulo
BEGIN:STANDARD
DTSTART;VALUE=DATE-TIME:20230225T230000
TZNAME:BRT
TZOFFSETFROM:-0200
TZOFFSETTO:-0300
END:STANDARD
END:VTIMEZONE
END:VCALENDAR
