BEGIN:VCALENDAR
VERSION:2.0
PRODID:-//Plone.org//NONSGML plone.app.event//EN
X-WR-TIMEZONE:America/Sao_Paulo
BEGIN:VEVENT
SUMMARY:Treinamento sobre Extensão Universitária dos docentes recém-adm
 itidos da UFMG em [ Auditorio Nobre do CAD 1]
DTSTART;TZID=America/Sao_Paulo;VALUE=DATE-TIME:20220426T090000
DTEND;TZID=America/Sao_Paulo;VALUE=DATE-TIME:20220426T203000
DTSTAMP;VALUE=DATE-TIME:20260422T093455Z
UID:c73ac3c2b5a744da995bdfaab6151337@150.164.76.86:8080
CREATED;VALUE=DATE-TIME:20220408T185028Z
DESCRIPTION:Programação:\nA Pró-Reitoria de Extensão realizará reuni
 ões para apresentação da extensão universitária aos docentes recém a
 dmitidos na UFMG. Serão abordados:\n    O potencial da extensão universi
 tária para a realização da atividade acadêmica\;\n    Aspectos jurídi
 cos e financeiros para aprovação e realização de atividades de extens
 ão\n    O Sistema de Informação da Extensão - SIEX\nA participação d
 o/a docente é voluntária e gratuita.\nEvento será feito em 3 'Edições
 ': 09 às 10h30\, 14 às 15h30 e 19 às 20h30.\n\nDemandas:\nNecessário: 
 Notebook\, Projeção e Dois microfones sorvete.\nNão será necessária o
 rganização de mesa para autoridades\nImportante o uso do púlpito.
LAST-MODIFIED;VALUE=DATE-TIME:20220412T151633Z
URL:http://150.164.76.86:8080/cac/agenda/5582573680130547937
END:VEVENT
BEGIN:VTIMEZONE
TZID:America/Sao_Paulo
X-LIC-LOCATION:America/Sao_Paulo
BEGIN:STANDARD
DTSTART;VALUE=DATE-TIME:20220219T230000
TZNAME:BRT
TZOFFSETFROM:-0200
TZOFFSETTO:-0300
END:STANDARD
END:VTIMEZONE
END:VCALENDAR
