BEGIN:VCALENDAR
VERSION:2.0
PRODID:-//Plone.org//NONSGML plone.app.event//EN
X-WR-TIMEZONE:America/Sao_Paulo
BEGIN:VEVENT
SUMMARY:Processo Seletivo do Colégio Técnico da UFMG em [ Auditorio A102
  do Cad 2 Auditorio A104 do Cad 2 Outros espacos]
DTSTART;TZID=America/Sao_Paulo;VALUE=DATE-TIME:20231118T070000
DTEND;TZID=America/Sao_Paulo;VALUE=DATE-TIME:20231119T200000
DTSTAMP;VALUE=DATE-TIME:20260420T132017Z
UID:c5423326d4154dbd922306dc6a84893d@150.164.76.86:8080
CREATED;VALUE=DATE-TIME:20230801T141426Z
DESCRIPTION:<p><b><span>Processo Seletivo do Colégio Técnico da UFMG</sp
 an></b></p>
LAST-MODIFIED;VALUE=DATE-TIME:20231106T131443Z
URL:http://150.164.76.86:8080/cac/agenda/5580561043584609988
END:VEVENT
BEGIN:VTIMEZONE
TZID:America/Sao_Paulo
X-LIC-LOCATION:America/Sao_Paulo
BEGIN:DAYLIGHT
DTSTART;VALUE=DATE-TIME:20231015T010000
TZNAME:BRST
TZOFFSETFROM:-0300
TZOFFSETTO:-0200
END:DAYLIGHT
END:VTIMEZONE
END:VCALENDAR
