BEGIN:VCALENDAR
VERSION:2.0
PRODID:-//Plone.org//NONSGML plone.app.event//EN
X-WR-TIMEZONE:America/Sao_Paulo
BEGIN:VEVENT
SUMMARY:PicadeRRÓ em [ Arena da praça de serviços]
DTSTART;TZID=America/Sao_Paulo;VALUE=DATE-TIME:20231206T173000
DTEND;TZID=America/Sao_Paulo;VALUE=DATE-TIME:20231206T190000
DTSTAMP;VALUE=DATE-TIME:20260420T115029Z
UID:bf9e232874514b64975ae57401b9c3ba@150.164.76.86:8080
CREATED;VALUE=DATE-TIME:20230707T184923Z
DESCRIPTION:Evento de caráter cultural com objetivo de divulgação da cu
 ltura do forró\, promovendo um espaço de dança gratuitamente para toda 
 a comunidade da UFMG.\nUtilizamos nossos próprios equipamentos\, sendo el
 es: caixa de som\, microfone e computadores/celulares.
LAST-MODIFIED;VALUE=DATE-TIME:20230710T134319Z
URL:http://150.164.76.86:8080/cac/agenda/5568226326125758135
END:VEVENT
BEGIN:VTIMEZONE
TZID:America/Sao_Paulo
X-LIC-LOCATION:America/Sao_Paulo
BEGIN:DAYLIGHT
DTSTART;VALUE=DATE-TIME:20231015T010000
TZNAME:BRST
TZOFFSETFROM:-0300
TZOFFSETTO:-0200
END:DAYLIGHT
END:VTIMEZONE
END:VCALENDAR
