BEGIN:VCALENDAR
VERSION:2.0
PRODID:-//Plone.org//NONSGML plone.app.event//EN
X-WR-TIMEZONE:America/Sao_Paulo
BEGIN:VEVENT
SUMMARY:Evento Proex -  peça de teatro em [ Auditorio Nobre do CAD 1]
DTSTART;TZID=America/Sao_Paulo;VALUE=DATE-TIME:20200430T070000
DTEND;TZID=America/Sao_Paulo;VALUE=DATE-TIME:20200430T220000
DTSTAMP;VALUE=DATE-TIME:20260425T000754Z
UID:1b29998ef280473aa00cbd382c4a2a04@150.164.76.86:8080
CREATED;VALUE=DATE-TIME:20200312T132156Z
DESCRIPTION:<p>A profa. Claudia Mayorga fez um pedido para a Cássia para 
 agendamento dessa data.</p>
LAST-MODIFIED;VALUE=DATE-TIME:20200312T132229Z
URL:http://150.164.76.86:8080/cac/agenda/5563097588461547394
END:VEVENT
BEGIN:VTIMEZONE
TZID:America/Sao_Paulo
X-LIC-LOCATION:America/Sao_Paulo
BEGIN:STANDARD
DTSTART;VALUE=DATE-TIME:20200215T230000
TZNAME:BRT
TZOFFSETFROM:-0200
TZOFFSETTO:-0300
END:STANDARD
END:VTIMEZONE
END:VCALENDAR
