BEGIN:VCALENDAR
VERSION:2.0
PRODID:-//Plone.org//NONSGML plone.app.event//EN
X-WR-TIMEZONE:America/Sao_Paulo
BEGIN:VEVENT
SUMMARY:Ensaio da Colação de Grau dos Formandos em Letras em [ Auditorio
  Nobre do CAD 1]
DTSTART;TZID=America/Sao_Paulo;VALUE=DATE-TIME:20230227T140000
DTEND;TZID=America/Sao_Paulo;VALUE=DATE-TIME:20230227T160000
DTSTAMP;VALUE=DATE-TIME:20260421T175542Z
UID:bdd73e3855f94a4bb62bd7e4b581f378@150.164.76.86:8080
CREATED;VALUE=DATE-TIME:20221118T153326Z
DESCRIPTION:<p>Ensaio da Colação de Grau dos Formandos em Letras. Será 
 necessário a utilização dos equipamentos disponíveis no auditório. Os
  itens necessários para realização do evento serão levados pela Equipe
  do Cerimonial da FALE.</p>
LAST-MODIFIED;VALUE=DATE-TIME:20221222T195050Z
URL:http://150.164.76.86:8080/cac/agenda/5556910900014804057
END:VEVENT
BEGIN:VTIMEZONE
TZID:America/Sao_Paulo
X-LIC-LOCATION:America/Sao_Paulo
BEGIN:STANDARD
DTSTART;VALUE=DATE-TIME:20230225T230000
TZNAME:BRT
TZOFFSETFROM:-0200
TZOFFSETTO:-0300
END:STANDARD
END:VTIMEZONE
END:VCALENDAR
