BEGIN:VCALENDAR
VERSION:2.0
PRODID:-//Plone.org//NONSGML plone.app.event//EN
X-WR-TIMEZONE:America/Sao_Paulo
BEGIN:VEVENT
SUMMARY:Enade 2022 - Orientações aos estudantes concluintes inscritos em
  [ Outros espacos]
DTSTART;TZID=America/Sao_Paulo;VALUE=DATE-TIME:20220929T170000
DTEND;TZID=America/Sao_Paulo;VALUE=DATE-TIME:20220929T183000
DTSTAMP;VALUE=DATE-TIME:20260422T012538Z
UID:b6219ad57d35405aabca9e310f428fe0@150.164.76.86:8080
CREATED;VALUE=DATE-TIME:20220919T175436Z
DESCRIPTION:Plataforma da conferência: o empréstimo foi solicitado ao Ce
 decom e o link disponibilizado foi https://us06web.zoom.us/j/88923813653?p
 wd=SmxWb2dMRERnOSt0YWtCaEp2ek1Jdz09\n\nNomes dos participantes da conferê
 ncia: \nProfessora Viviane S. Birchal - Diretora da Avaliação Institucio
 nal\nMicheline Sanches - Diretora Adjunta da Avaliação Institucional\nIn
 térprete (em breve informaremos)\nTexto para o campo “descrição do v
 ídeo no YouTube: \n\nA Diretoria de Avaliação Institucional (DAI) da UF
 MG convida coordenadores de curso\, professores e estudantes concluintes i
 nscritos a participar do Exame Nacional de Desempenho dos Estudantes (Enad
 e 2022) para uma conversa sobre o exame e esclarecimentos de dúvidas.\nO 
 evento acontecerá em duas etapas:\n1ª - Apresentação do Exame\, com es
 clarecimentos sobre procedimentos\, formato da prova e importância para o
  aluno\, para o curso e para a instituição\;\n2ª - Esclarecimento de d
 úvidas apresentadas via chat.\nContamos com sua participação!\nParticip
 arão do Enade 2022 os estudantes da UFMG que estão concluindo os cursos 
 de Administração (Campus Pampulha)\, Administração (Campus ICA)\, Ciê
 ncias Contábeis\, Ciências Econômicas\, Direito\, Jornalismo\, Psicolog
 ia\, Publicidade e Propaganda\, Relações Econômicas Internacionais e Tu
 rismo.\n\nMediadora da conferência: Professora Viviane Birchal\nUso do ch
 at do YouTube e seus respectivos moderadores: Juliana Melo e Luiz Antônio
  Faria.\nDefinir a conta YouTube que o(a) moderador(a) do chat estará log
 ado(a): \nConta DAI/UFMG\ndaiufmg@gmail.com\n\nIntérprete simultâneo de 
 LIBRAS. Podem ser solicitados junto ao NAI: será verificada a viabilidade
  com o NAI.\n\nApresentações multimídia: a Profa. Viviane Birchal irá 
 realizar uma apresentação em Power Point.
LAST-MODIFIED;VALUE=DATE-TIME:20220919T181412Z
URL:http://150.164.76.86:8080/cac/agenda/5537352016938781545
END:VEVENT
BEGIN:VTIMEZONE
TZID:America/Sao_Paulo
X-LIC-LOCATION:America/Sao_Paulo
BEGIN:STANDARD
DTSTART;VALUE=DATE-TIME:20220219T230000
TZNAME:BRT
TZOFFSETFROM:-0200
TZOFFSETTO:-0300
END:STANDARD
END:VTIMEZONE
END:VCALENDAR
