BEGIN:VCALENDAR
VERSION:2.0
PRODID:-//Plone.org//NONSGML plone.app.event//EN
X-WR-TIMEZONE:America/Sao_Paulo
BEGIN:VEVENT
SUMMARY:Semana do hip-hop: Conexão universidade e periferia em [ Arena da
  praça de serviços]
DTSTART;TZID=America/Sao_Paulo;VALUE=DATE-TIME:20241004T190000
DTEND;TZID=America/Sao_Paulo;VALUE=DATE-TIME:20241004T230000
DTSTAMP;VALUE=DATE-TIME:20260419T192009Z
UID:9374462c439f4b35aca8c929a32067ac@150.164.76.86:8080
CREATED;VALUE=DATE-TIME:20240906T012752Z
DESCRIPTION:A atividade do dia 04/10\, consta enquanto a atividade de ence
 rramento da semana do hip-hop\, com a presença do ultimo elemento da cult
 ura\, os dj's. No qual contará com uma atividade pratica de apresentar a 
 importância e a\npotência do som e do flow da cultura hip-hop\, na const
 rução do sentir e sentido dentro da cultura\, no qual contará com a pre
 sença de representantes desse elemento pessoas tanto do ambito interno da
  universidade e externo\,\napresentando seus respectivos trabalhos. Vale r
 esaltar que a atividade seguirá as recomendações do orgão responsavél
  pelo local de controle do volume e barulho das atividades\, evitando que 
 possa acarretar\nem algum incomodo as aulas proxima do evento
LAST-MODIFIED;VALUE=DATE-TIME:20240906T155644Z
URL:http://150.164.76.86:8080/cac/agenda/5537186596504271738
END:VEVENT
BEGIN:VTIMEZONE
TZID:America/Sao_Paulo
X-LIC-LOCATION:America/Sao_Paulo
BEGIN:STANDARD
DTSTART;VALUE=DATE-TIME:20240217T230000
TZNAME:BRT
TZOFFSETFROM:-0200
TZOFFSETTO:-0300
END:STANDARD
END:VTIMEZONE
END:VCALENDAR
