BEGIN:VCALENDAR
VERSION:2.0
PRODID:-//Plone.org//NONSGML plone.app.event//EN
X-WR-TIMEZONE:America/Sao_Paulo
BEGIN:VEVENT
SUMMARY:Reunião de Equipe em [ Outros espacos]
DTSTART;TZID=America/Sao_Paulo;VALUE=DATE-TIME:20220909T093000
DTEND;TZID=America/Sao_Paulo;VALUE=DATE-TIME:20220909T123000
DTSTAMP;VALUE=DATE-TIME:20260422T012303Z
UID:fce4ebee640e4a278e1c84ce241937dd@150.164.76.86:8080
CREATED;VALUE=DATE-TIME:20220906T151026Z
DESCRIPTION:<p>Reunião Sala de Sessões</p>
LAST-MODIFIED;VALUE=DATE-TIME:20220906T151300Z
URL:http://150.164.76.86:8080/cac/agenda/5536099507555855659
END:VEVENT
BEGIN:VTIMEZONE
TZID:America/Sao_Paulo
X-LIC-LOCATION:America/Sao_Paulo
BEGIN:STANDARD
DTSTART;VALUE=DATE-TIME:20220219T230000
TZNAME:BRT
TZOFFSETFROM:-0200
TZOFFSETTO:-0300
END:STANDARD
END:VTIMEZONE
END:VCALENDAR
