BEGIN:VCALENDAR
VERSION:2.0
PRODID:-//Plone.org//NONSGML plone.app.event//EN
X-WR-TIMEZONE:America/Sao_Paulo
BEGIN:VEVENT
SUMMARY:Dia Internacional da Língua Chinesa em [ Auditorio A102 do Cad 2 
 Auditorio A104 do Cad 2]
DTSTART;TZID=America/Sao_Paulo;VALUE=DATE-TIME:20250416T090000
DTEND;TZID=America/Sao_Paulo;VALUE=DATE-TIME:20250416T120000
DTSTAMP;VALUE=DATE-TIME:20260419T120200Z
UID:27e7867d227a4e90bf1c3fb1518f7326@150.164.76.86:8080
CREATED;VALUE=DATE-TIME:20250313T134919Z
DESCRIPTION:<p>O Dia Internacional da Língua Chinesa visa a aproximar o p
 úblico interessado à cultura chinesa. Serão necessários 6 Estandes\, q
 ue serão decorados por itens providenciados pelo próprio Instituto Conf
 úcio.</p>
LAST-MODIFIED;VALUE=DATE-TIME:20250327T143757Z
URL:http://150.164.76.86:8080/cac/agenda/5528513826466128922
END:VEVENT
BEGIN:VTIMEZONE
TZID:America/Sao_Paulo
X-LIC-LOCATION:America/Sao_Paulo
BEGIN:STANDARD
DTSTART;VALUE=DATE-TIME:20250215T230000
TZNAME:BRT
TZOFFSETFROM:-0200
TZOFFSETTO:-0300
END:STANDARD
END:VTIMEZONE
END:VCALENDAR
